BEGIN:VCALENDAR
VERSION:2.0
PRODID:-//Coalition of Recovery Investment - ECPv6.15.20//NONSGML v1.0//EN
CALSCALE:GREGORIAN
METHOD:PUBLISH
X-ORIGINAL-URL:https://corimn.org
X-WR-CALDESC:Events for Coalition of Recovery Investment
REFRESH-INTERVAL;VALUE=DURATION:PT1H
X-Robots-Tag:noindex
X-PUBLISHED-TTL:PT1H
BEGIN:VTIMEZONE
TZID:UTC
BEGIN:STANDARD
TZOFFSETFROM:+0000
TZOFFSETTO:+0000
TZNAME:UTC
DTSTART:20220101T000000
END:STANDARD
END:VTIMEZONE
BEGIN:VEVENT
DTSTART;TZID=UTC:20230330T170000
DTEND;TZID=UTC:20230330T200000
DTSTAMP:20260421T060704
CREATED:20230222T152457Z
LAST-MODIFIED:20230222T152457Z
UID:103-1680195600-1680206400@corimn.org
SUMMARY:Recovery Resource Fair
DESCRIPTION:
URL:https://corimn.org/event/recovery-resource-fair/
END:VEVENT
END:VCALENDAR