BEGIN:VCALENDAR
VERSION:2.0
PRODID:-//Coalition of Recovery Investment - ECPv6.15.20//NONSGML v1.0//EN
CALSCALE:GREGORIAN
METHOD:PUBLISH
X-WR-CALNAME:Coalition of Recovery Investment
X-ORIGINAL-URL:https://corimn.org
X-WR-CALDESC:Events for Coalition of Recovery Investment
REFRESH-INTERVAL;VALUE=DURATION:PT1H
X-Robots-Tag:noindex
X-PUBLISHED-TTL:PT1H
BEGIN:VTIMEZONE
TZID:UTC
BEGIN:STANDARD
TZOFFSETFROM:+0000
TZOFFSETTO:+0000
TZNAME:UTC
DTSTART:20230101T000000
END:STANDARD
END:VTIMEZONE
BEGIN:VEVENT
DTSTART;TZID=UTC:20240216T120000
DTEND;TZID=UTC:20240216T130000
DTSTAMP:20260423T120918
CREATED:20240106T183247Z
LAST-MODIFIED:20240107T220839Z
UID:373-1708084800-1708088400@corimn.org
SUMMARY:Opioid Epidemic Response Advisory Committee Meeting
DESCRIPTION:Virtual meeting – click to join
URL:https://corimn.org/event/373/
LOCATION:Virtual
END:VEVENT
END:VCALENDAR