BEGIN:VCALENDAR
VERSION:2.0
PRODID:-//Coalition of Recovery Investment - ECPv6.15.20//NONSGML v1.0//EN
CALSCALE:GREGORIAN
METHOD:PUBLISH
X-WR-CALNAME:Coalition of Recovery Investment
X-ORIGINAL-URL:https://corimn.org
X-WR-CALDESC:Events for Coalition of Recovery Investment
REFRESH-INTERVAL;VALUE=DURATION:PT1H
X-Robots-Tag:noindex
X-PUBLISHED-TTL:PT1H
BEGIN:VTIMEZONE
TZID:UTC
BEGIN:STANDARD
TZOFFSETFROM:+0000
TZOFFSETTO:+0000
TZNAME:UTC
DTSTART:20230101T000000
END:STANDARD
END:VTIMEZONE
BEGIN:VEVENT
DTSTART;TZID=UTC:20240419T080000
DTEND;TZID=UTC:20240419T170000
DTSTAMP:20260423T150241
CREATED:20240106T184216Z
LAST-MODIFIED:20240106T184216Z
UID:381-1713513600-1713546000@corimn.org
SUMMARY:Opioid Epidemic Response Advisory Committee Meeting
DESCRIPTION:In person or virtual – click here to join
URL:https://corimn.org/event/opioid-epidemic-response-advisory-committee-meeting-3/
LOCATION:Wright County Government Center\, 3650 Braddock Ave NE\, Buffalo\, MN\, United States
END:VEVENT
END:VCALENDAR