BEGIN:VCALENDAR
VERSION:2.0
PRODID:-//Coalition of Recovery Investment - ECPv6.15.20//NONSGML v1.0//EN
CALSCALE:GREGORIAN
METHOD:PUBLISH
X-ORIGINAL-URL:https://corimn.org
X-WR-CALDESC:Events for Coalition of Recovery Investment
REFRESH-INTERVAL;VALUE=DURATION:PT1H
X-Robots-Tag:noindex
X-PUBLISHED-TTL:PT1H
BEGIN:VTIMEZONE
TZID:UTC
BEGIN:STANDARD
TZOFFSETFROM:+0000
TZOFFSETTO:+0000
TZNAME:UTC
DTSTART:20230101T000000
END:STANDARD
END:VTIMEZONE
BEGIN:VEVENT
DTSTART;TZID=UTC:20240719T120000
DTEND;TZID=UTC:20240719T130000
DTSTAMP:20260423T192009
CREATED:20240107T191608Z
LAST-MODIFIED:20240107T221342Z
UID:389-1721390400-1721394000@corimn.org
SUMMARY:Opioid Epidemic Response Advisory Committee Meeting
DESCRIPTION:Virtual meeting – click here to join
URL:https://corimn.org/event/opioid-epidemic-response-advisory-committee/
LOCATION:Virtual
END:VEVENT
END:VCALENDAR